BEGIN:VCALENDAR
VERSION:2.0
PRODID:-//尺八 小濱明人 Official Website - ECPv6.15.11//NONSGML v1.0//EN
CALSCALE:GREGORIAN
METHOD:PUBLISH
X-WR-CALNAME:尺八 小濱明人 Official Website
X-ORIGINAL-URL:https://akihitoobama.com
X-WR-CALDESC:尺八 小濱明人 Official Website のイベント
REFRESH-INTERVAL;VALUE=DURATION:PT1H
X-Robots-Tag:noindex
X-PUBLISHED-TTL:PT1H
BEGIN:VTIMEZONE
TZID:Asia/Tokyo
BEGIN:STANDARD
TZOFFSETFROM:+0900
TZOFFSETTO:+0900
TZNAME:JST
DTSTART:20250101T000000
END:STANDARD
END:VTIMEZONE
BEGIN:VEVENT
DTSTART;TZID=Asia/Tokyo:20260516T110000
DTEND;TZID=Asia/Tokyo:20260516T112000
DTSTAMP:20260426T032106
CREATED:20260412T041026Z
LAST-MODIFIED:20260412T041727Z
UID:3112-1778929200-1778930400@akihitoobama.com
SUMMARY:ＮＨＫ-ＦＭ「ライブジャポニズム！福之音」その１
DESCRIPTION:「ＮＨＫ-ＦＭ「ライブジャポニズム！福之音」\n\n〈放送日〉\n　　第1回：2026年５月16日（土）11：00～11：20\n　　第2回：2026年５月23日（土）11：00～11：20\n\n　詳細は⇒ こちら
URL:https://akihitoobama.com/event/livejaponism-1/
END:VEVENT
BEGIN:VEVENT
DTSTART;TZID=Asia/Tokyo:20260522T190000
DTEND;TZID=Asia/Tokyo:20260522T210000
DTSTAMP:20260426T032106
CREATED:20260320T142337Z
LAST-MODIFIED:20260326T153047Z
UID:3048-1779476400-1779483600@akihitoobama.com
SUMMARY:第10回 松岡貴史＆みち子 作品展
DESCRIPTION:第10回 松岡貴史＆みち子 作品展\n\n日　時：2026年5月22日（金） 18:30開場／19:00開演\n会　場：宮地楽器小ホール（武蔵小金井駅）\n料　金：2\,800円（全席自由）\n出　者：佐藤裕希恵（ソプラノ）、渡辺祐介（バリトン）、小濱明人（尺八）、\n　　　  岩瀬龍太（クラリネット）、甲斐史子（ヴァイオリン、ヴィオラ）、\n　　　　北嶋愛季（チェロ）\n映　像：水本紗恵子\n\nプログラム（順不同） \n　松岡貴史作曲：「森のうたをお聴き」（バリトン、bass-cl）[初演]\n　　　　　 　　　尺八、ヴィオラ、チェロのための新作 [初演]\n　　　　　　　　「語り継がれし物語」（Sop\,Vc）\n松岡みち子作曲：「秋の雨」（CL\,Vn）\n　　　　　　　　「冬隣」（尺八\,Vla）\n　　　　　　　　 音楽昔噺「びんぼう神」（Sop\,Bar\,Cl\,Vc\,映像）[初演]\n\nお問合せ：松岡（TEL 090-6283-4670／E-mail michiko.compo@gmail.com）
URL:https://akihitoobama.com/event/matsuoka-works-10th/
LOCATION:宮地楽器小ホール\, 本町6-14-45\, 小金井市\, 東京都\, 184-0004\, Japan
ORGANIZER;CN="%E6%9D%BE%E5%B2%A1%E8%B2%B4%E5%8F%B2%EF%BC%86%E3%81%BF%E3%81%A1%E5%AD%90":MAILTO:michiko.compo@gmail.com
END:VEVENT
BEGIN:VEVENT
DTSTART;TZID=Asia/Tokyo:20260523T110000
DTEND;TZID=Asia/Tokyo:20260523T112000
DTSTAMP:20260426T032106
CREATED:20260412T041452Z
LAST-MODIFIED:20260412T041708Z
UID:3116-1779534000-1779535200@akihitoobama.com
SUMMARY:ＮＨＫ-ＦＭ「ライブジャポニズム！福之音」その２
DESCRIPTION:ＮＨＫ-ＦＭ「ライブジャポニズム！福之音」\n\n〈放送日〉\n　　第1回：2026年5月16日（土）11：00～11：20\n　　第2回：2026年5月23日（土）11：00～11：20\n\n　詳細は⇒ こちら
URL:https://akihitoobama.com/event/livejaponism-2/
END:VEVENT
BEGIN:VEVENT
DTSTART;TZID=Asia/Tokyo:20260524T140000
DTEND;TZID=Asia/Tokyo:20260524T163000
DTSTAMP:20260426T032106
CREATED:20260310T140622Z
LAST-MODIFIED:20260326T153129Z
UID:3023-1779631200-1779640200@akihitoobama.com
SUMMARY:コンサート「吹く」
DESCRIPTION:　　　　喫茶「平均律」主催コンサート「吹く」\n開催日　2026年5月24日（日）14:00 開演（13:30 開場）\n場　所　安養院 瑠璃光堂（東京都板橋区東新町2-30-23）\n料　金　全自由席5\,500円（消費税込）\nお申込　Peatix \n問合先　喫茶「平均律」（heikinritsu721@gmail.com）\n出演者　KNOBノブ（ディジリドゥ）／安井マリ（アイリッシュフルート）／\n       小濱明人（尺八）／ハ・ヨンス（チャンセナプ）\n\nコメント　吹くことは息をすること　生きるそのもの\n　　　　　呼吸は空気と繋がり　地球と繋がる　四人の奏者の演奏\n　　　　　オーストラリア・アボリジニの「ディジリドゥ」、\n　　　　　アイルランド「アイリッシュフルート」、日本「尺八」、\n　　　　　朝鮮半島「チャンセナプ」、による笛の演奏会。\n 
URL:https://akihitoobama.com/event/blows2026/
LOCATION:安養院 瑠璃光堂\, 東新町2-30-23\, 板橋区\, 東京都\, 174-0074\, Japan
ORGANIZER;CN="%E5%B9%B3%E5%9D%87%E5%BE%8B":MAILTO:heikinritsu721@gmail.com
END:VEVENT
BEGIN:VEVENT
DTSTART;TZID=Asia/Tokyo:20260525T183000
DTEND;TZID=Asia/Tokyo:20260525T203000
DTSTAMP:20260426T032106
CREATED:20260217T132242Z
LAST-MODIFIED:20260414T142334Z
UID:2995-1779733800-1779741000@akihitoobama.com
SUMMARY:「伊藤多喜雄コンサート2026 in 溝の口」～民謡名人位受章記念公演～
DESCRIPTION:　　   民謡名人位受章記念公演\n　　　 ～支えてくださった皆さまへ～\n　　　「伊藤多喜雄コンサート2026 in 溝の口」\n\n開催日：2026年5月25日（月）開場18:00 ／開演18:30 \n料　金：S ¥6\,000／A ¥4\,000／B ¥3\,500（全席指定）\n会　場：すくらむ２１（川崎市高津区溝の口2-20-1）\n出　演：伊藤多喜雄（唄）＆TAKiO BAND＝\n　　　　小山豊（津軽三味線）・小濱明人（尺八）・竹田弘樹（ベース）・栗林すみれ（ピアノ）・\n　　　　田中詩織（ビオラ）・堀越彰（ドラム）・めぐ留（コーラス）・花柳美伯・市山扇雄右（以上踊り）\n　　　　スペシャルゲスト＝小山貢（津軽三味線）\n　　　　スーパーゲスト＝小山泰（津軽三味線）\n　　　　賛助出演＝荒馬座・南中ソーラン連\nご予約：info@takiopro.com／0448442338
URL:https://akihitoobama.com/event/tkioito_2026_mizonokuchi/
LOCATION:すくらむ２１\, 高津区溝口 2-20-1\, 川崎市\, 神奈川県\, 213-0001\, Japan
ORGANIZER;CN="%E4%BC%8A%E8%97%A4%E5%A4%9A%E5%96%9C%E9%9B%84%E9%9F%B3%E6%A5%BD%E4%BA%8B%E5%8B%99%E6%89%80":MAILTO:info@takiopro.com
END:VEVENT
BEGIN:VEVENT
DTSTART;TZID=Asia/Tokyo:20260530T190000
DTEND;TZID=Asia/Tokyo:20260530T203000
DTSTAMP:20260426T032106
CREATED:20260412T034012Z
LAST-MODIFIED:20260424T164103Z
UID:3108-1780167600-1780173000@akihitoobama.com
SUMMARY:4つの楽器による「新緑コンサート」
DESCRIPTION:～4つの楽器による～「新緑コンサート」\n\n日　時：2026年5月30日（土）19:00開演\n料　金：5\,000円\n会　場：モンタージュ新宿（新宿2-16-9 五城ビル地下）\n　　　　 新宿三丁目駅C7出口より」2分\n問合先：甘建民二胡学院（03-5974-2618）\n出　演：甘建民（二胡）／Momo（ヴァイオリン）／高薇清（ピアノ）／小濱明人（尺八 ）
URL:https://akihitoobama.com/event/4%e3%81%a4%e3%81%ae%e6%a5%bd%e5%99%a8%e3%81%ab%e3%82%88%e3%82%8b%e3%80%8c%e6%96%b0%e7%b7%91%e3%82%b3%e3%83%b3%e3%82%b5%e3%83%bc%e3%83%88%e3%80%8d/
LOCATION:モンタージュ新宿\, 新宿 2-16-9 五城ビル地下\, 新宿区\, 東京都\, Japan
END:VEVENT
END:VCALENDAR