BEGIN:VCALENDAR
VERSION:2.0
PRODID:-//尺八 小濱明人 Official Website - ECPv6.15.11//NONSGML v1.0//EN
CALSCALE:GREGORIAN
METHOD:PUBLISH
X-ORIGINAL-URL:https://akihitoobama.com
X-WR-CALDESC:尺八 小濱明人 Official Website のイベント
REFRESH-INTERVAL;VALUE=DURATION:PT1H
X-Robots-Tag:noindex
X-PUBLISHED-TTL:PT1H
BEGIN:VTIMEZONE
TZID:Asia/Tokyo
BEGIN:STANDARD
TZOFFSETFROM:+0900
TZOFFSETTO:+0900
TZNAME:JST
DTSTART:20250101T000000
END:STANDARD
END:VTIMEZONE
BEGIN:VEVENT
DTSTART;TZID=Asia/Tokyo:20260301T150000
DTEND;TZID=Asia/Tokyo:20260301T170000
DTSTAMP:20260426T032151
CREATED:20251230T152816Z
LAST-MODIFIED:20260127T144927Z
UID:2907-1772377200-1772384400@akihitoobama.com
SUMMARY:小濱明人 尺八教室「第4回 演奏会」
DESCRIPTION:タイトル：小濱明人 尺八教室「第4回 演奏会」\n　開催日：2026年3月1日（日）開場14:30／開演15:00\n　場　所：（株）目白　3階 スタジオ M（東京都新宿区下落合3-17-30）\n　料　金：入場無料・ご来聴歓迎\n　問合先：オバマ（03-3867-8303／akihitoobama＋info@gmail.com）
URL:https://akihitoobama.com/event/akihitoobama_studentconcert_2026/
LOCATION:（株）目白\, 下落合3-17-30\, 新宿区\, 東京都\, 161-0033\, 日本
ORGANIZER;CN="%E5%B0%8F%E6%BF%B1%E6%98%8E%E4%BA%BA %E5%B0%BA%E5%85%AB%E6%95%99%E5%AE%A4":MAILTO:akihitoobama+info@gmail.com
END:VEVENT
BEGIN:VEVENT
DTSTART;TZID=Asia/Tokyo:20260303T190000
DTEND;TZID=Asia/Tokyo:20260303T210000
DTSTAMP:20260426T032151
CREATED:20250922T144409Z
LAST-MODIFIED:20260101T063334Z
UID:2675-1772564400-1772571600@akihitoobama.com
SUMMARY:The Shakuhachi 5 「The 5th Concert」
DESCRIPTION:The Shakuhachi 5 「The 5th Concert」\n　 浮世絵プロジェクト 〜3都市〈NY・プラハ・東京〉を尺八でつなぐ〜\n\n　私たち「The Shakuhachi 5」は、2024年より《浮世絵プロジェクト》と題しまして、\nアメリカ/ニューヨーク、チェコ/プラハ及び日本/東京の美術館に所蔵されている\n〈尺八が描かれた浮世絵〉をもとに、新曲の委嘱・映像作品の制作依頼を進めて参りました。\n　2025年にニューヨーク、プラハで新作を発表し、ついにこのコンサートにて三カ年に\n渡り取り組んできました《浮世絵プロジェクト》が完結します。\n　本公演ではニューヨーク、プラハにて初演しました作品、そしてこのたび原田敬子氏に\n委嘱した新作曲、大田暁雄氏による新しい映像作品を発表いたします。\n　その他にも、これまで私たちが出会いました曲の中から３曲、そして我々\n「The Shakuhachi 5」2025年編曲・初演の「琴古流本曲〈鹿の遠音〉五重奏版」の\n計７演目をお送りいたします。\n　浮世絵の世界が織り成す尺八の音と映像、並びに私たちのライフワークである、\n「The Shakuhachi 5」なりの新しい尺八音楽の表現を、目と耳で体感していただければと\n思っております。\n　お忙しいこととは存じますが、ぜひご来場いただけますと大変嬉しく存じます。\n皆様のお越しを心よりお待ち申し上げております。\n\n\n【開催日】\n　2026年3月3日（火）開場18:30 開演19:00\n\n【会場】\n　豊洲シビックセンターホール（東京都江東区豊洲2-2-18-5F）\n\n【料金】\n　前売：4\,000円／当日：4\,500円／学生&U25：2\,000円\n\n\n【プログラム】\n　〈1部〉\n　　 １．望月京「観音アナトミー」(2023) *\n　　 ２．金田望「コレオグラフィ」(2022) **\n　　 ３．ジョン・ケージ「Five」(1988)\n　　 ４．琴古流本曲「鹿の遠音 -五重奏版-」**(The Shakuhachi 5 編曲/2025)\n　〈2部〉\n　　 ５．NY作品：リサ・ビエラワ「Invitation 2.0」(2025) *** ＋ 映像（テイ・ブロウ）\n　 　６．プラハ作品：ミロスラフ・スルンカ「Berorin Ai」(2025) * ＋ 映像（マレク・マトヴィア）　　\n　 　７．東京作品：原田敬子「委嘱新作」(2026) * ＋ 映像（大田暁雄）\n\n\n　　　　*The Shakuhachi 5 委嘱作品／**The Shakuhachi 5 公募作品\n　　　　***The Shakuhachi 5 & Japan Society 共同委嘱作品\n\n\n【出演】\n　The Shakuhachi 5（小濱明人・川村葵山・黒田鈴尊・小湊昭尚・田嶋謙一）\n\n【問合先/お申込み】　\n　theshakuhachi5@gmail.com\n　＊氏名・人数・お電話番号を明記の上 お申し込みください。\n 
URL:https://akihitoobama.com/event/the-shakuhachi-5-%e3%80%8cthe-5th-concert%e3%80%8d/
LOCATION:豊洲シビックセンターホール\, 豊洲2丁目2-18-5F\, 江東区\, 東京都\, 135-0061\, 日本
ORGANIZER;CN="The Shakuhachi 5":MAILTO:theshakuhachi5@gmail.com
END:VEVENT
BEGIN:VEVENT
DTSTART;TZID=Asia/Tokyo:20260307T130000
DTEND;TZID=Asia/Tokyo:20260307T170000
DTSTAMP:20260426T032151
CREATED:20251230T133519Z
LAST-MODIFIED:20260122T132358Z
UID:2875-1772888400-1772902800@akihitoobama.com
SUMMARY:横山勝也先生 十七回忌記念演奏会「独り吹きの会」
DESCRIPTION:　 \n\nタイトル：横山勝也先生十七回忌記念演奏会「独り吹きの会」\n日　時： 2026年 3月 7日（土）開場12:30 開演13:00\n会　場： すみだトリフォニー小ホール\n料　金： 1\,000円\n問合先： 竹心会（竹内一裕）kztake108music@gmail.com\n出　演： 古屋輝夫／眞玉和司／柿堺香／岡田道明／関一郎／菅原久仁義／素川欣也／泉武夫\n　　　 　岩橋庸一／竹内一裕／佐々木徹／Jim Franklin／松本宏平／熊本圭吾／池上直斗／\n　　　 　小濱明人／今井祐介／クリストファァー モリナ／両角昌幸／山本貴之／田畑智史／\n　　 　　他多数（以上尺八）
URL:https://akihitoobama.com/event/thememorialconcertfor_katsuyayokoyama/
LOCATION:すみだトリフォニーホール 小ホール\, 錦糸1-2-3\, 墨田区\, 東京都\, 130-0013\, 日本
END:VEVENT
BEGIN:VEVENT
DTSTART;TZID=Asia/Tokyo:20260315T140000
DTEND;TZID=Asia/Tokyo:20260315T160000
DTSTAMP:20260426T032151
CREATED:20260121T141102Z
LAST-MODIFIED:20260121T141337Z
UID:2963-1773583200-1773590400@akihitoobama.com
SUMMARY:とこなつ☆メビウス Special
DESCRIPTION:【とこなつ☆メビウス Special】　\n\n　2026年3月15日（日）Open 13:00 / Startスタート 14:00\n\n　Music Charge: ¥3\,500 +2オーダー以上\n\n　出演: ちはらあつこ(Vo. Pf. Uke. etc)／とだこうじ (Gt. Vo.)\n　　　　小濱明人（ゲスト・尺八）\n\n　会場: 四谷メビウス（03-3341-3732）東京都新宿区舟町8　舟町ビルB1\n　　　　丸の内線　四ッ谷三丁目駅　徒歩3分／都営新宿線　曙橋駅　徒歩3分\n\n　ご予約・お問い合わせ\n　　ちはらあつこ（atsuko.happy.music@gmail.com）又はお店（03-3341-3732）まで
URL:https://akihitoobama.com/event/tokonatsu_mobius_special-2/
LOCATION:メビウス\, 舟町8　舟町ビルB1\, 新宿区\, 東京都\, 160-0006 \, 日本
END:VEVENT
END:VCALENDAR