BEGIN:VCALENDAR
VERSION:2.0
PRODID:-//尺八 小濱明人 Official Website - ECPv6.15.11//NONSGML v1.0//EN
CALSCALE:GREGORIAN
METHOD:PUBLISH
X-WR-CALNAME:尺八 小濱明人 Official Website
X-ORIGINAL-URL:https://akihitoobama.com
X-WR-CALDESC:尺八 小濱明人 Official Website のイベント
REFRESH-INTERVAL;VALUE=DURATION:PT1H
X-Robots-Tag:noindex
X-PUBLISHED-TTL:PT1H
BEGIN:VTIMEZONE
TZID:Asia/Tokyo
BEGIN:STANDARD
TZOFFSETFROM:+0900
TZOFFSETTO:+0900
TZNAME:JST
DTSTART:20250101T000000
END:STANDARD
END:VTIMEZONE
BEGIN:VEVENT
DTSTART;TZID=Asia/Tokyo:20260207T150000
DTEND;TZID=Asia/Tokyo:20260207T170000
DTSTAMP:20260426T044306
CREATED:20251215T095943Z
LAST-MODIFIED:20251230T151607Z
UID:2799-1770476400-1770483600@akihitoobama.com
SUMMARY:「はせみきた和太鼓コンサート」演奏家活動25周年記念
DESCRIPTION:　 \n演奏家活動25周年記念\n「はせみきた和太鼓コンサート」\n\n［日時］\n　2026年 2月7日（土）14:30開場／15:00開演\n\n［会場］\n　沼津市民文化センター 小ホール →アクセス \n　(沼津市御幸町15-1　JR沼津駅南口より徒歩約20分／バスにて約10分)\n\n［料金］\n　全席指定　一般￥5\,000／U-25￥2\,500（税込）\n　※ 未就学児入場不可\n\n [お問い合わせ]\n　イーストン　055-931-8999\n\n [出演] はせみきた（太鼓）\n 　　 　スペシャルゲスト：林英哲（太鼓）\n 　　 　ゲスト：小濱明人（尺八）、小泉謙一（太鼓）\n 　　　 サポート：片岡亮太／堀越唯人（太鼓）\n\n [コメント]\n　演奏家活動25年の集大成！\n　偉大なる師匠、全信頼を置く盟友たちの胸を借りながら、次なるステップへの第一歩を踏み出します。\n　愛するホームグラウンド・沼津の慣れ親しんだホールで、すべてのお客様への 感謝の気持ちを込めて…\n\n\n主催：イースト　\n共催：沼津市教育委員会／（公財）沼津市振興公社
URL:https://akihitoobama.com/event/mikitahase_25th-anniversary/
LOCATION:沼津市民文化センター 小ホール\, 御幸町15番1号\, 沼津市\, 静岡県\, 410-0832\, Japan
END:VEVENT
BEGIN:VEVENT
DTSTART;TZID=Asia/Tokyo:20260214T130000
DTEND;TZID=Asia/Tokyo:20260214T180000
DTSTAMP:20260426T044306
CREATED:20251230T142513Z
LAST-MODIFIED:20251230T151728Z
UID:2881-1771074000-1771092000@akihitoobama.com
SUMMARY:おどりの空間「四季の饗宴・別会」
DESCRIPTION:数十年国立劇場、浅草公会堂と交互に開催してました【四季の饗宴】シリーズ、\nこの度初めて観世能楽堂にて開催させて頂きます。大変珍しい曲、好評だった\nあの作品の再演、新しい作品…と常に進化をしてゆきたいおどりの空間には\nピッタリな作品揃いの1日。ぜひぜひ、いらして下さいませ。\n\n\nタイトル：おどりの空間主催\n　　　　　四季の饗宴・別会〜オン・ギンザシックス\n\n日時：2026年2月14日（土）\n会場：銀座SIX（観世能楽堂）\n\n内容：１部《古典舞踊》午後１時から\n　　　　　　長唄　伊勢参宮・藤娘・静・島の千歳・鬼次拍子舞\n　　　　　　新地唄舞　からくり的・荒れ鼠\n\n　　　２部《おどりの空間》午後３時半から\n　　　　　・【松浦佐用姫秘抄】\n　　　　　　　　村尚也（作詞・振付）／鶴澤津賀寿（作曲）\n　　　　　・【シン・田能久】\n　　　　　　　　村尚也（作詞・振付）／鶴澤津賀寿（作曲）／林家正雀（落語）\n　　　　　・【時をつむぐ人】\n　　　　　　　　西崎櫻鼓（原案）／村尚也（構成振付）　　\n\n出演：西崎絵壬乃／西崎櫻鼓／花柳曄沙代／花柳忠彦／河本紫葉／村尚也／\n　　　河本葉瑠香／都丸明子／西崎織江／西崎藤菜／西崎のり一／西崎のり紅／\n　　　前原順子／坂東鼓都奈／坂東鼓佳乃／松丸聡里／俊えり（以上舞踊）\n\n　　　鶴澤津賀寿／竹本越孝／竹本京之助／鶴澤弥々／Emme／杵屋佐喜／小濱明人／\n     池田恭子／Mon'／小野真由美／福原百之助／鳳聲晴久／林家正雀（以上演奏）\n\n料金：指定席=6\,000円（お早めに）／自由席=5\,000円\n\nチケット：TEL 03-3901-0417／FAX 03-3901-0510／メール info@odorinokukan.jp\n　　　　　お申込みフォーム　http://form1.fc2.com/form/?id=548521
URL:https://akihitoobama.com/event/odorinokukan_shikinokyoen2026/
LOCATION:観世能楽堂\, 銀座6-10-1　GINZASIX　地下3階\, 中央区\, 東京都\, 104-0061\, Japan
END:VEVENT
BEGIN:VEVENT
DTSTART;TZID=Asia/Tokyo:20260215T140000
DTEND;TZID=Asia/Tokyo:20260215T160000
DTSTAMP:20260426T044306
CREATED:20260115T165940Z
LAST-MODIFIED:20260115T170715Z
UID:2955-1771164000-1771171200@akihitoobama.com
SUMMARY:山中信人〈津軽三味線演奏会〉其の八
DESCRIPTION:山中信人〈津軽三味線演奏会〉其の八\n日時：2026年2月15日（日）13時開場　14時開演\n料金：前売り3500円／当日4000円（飲み物別途）\n出演：山中信人（津軽三味線）／スペシャルゲスト＝小濱明人（尺八）\n場所：カフェ紫苑（〒369-0133 埼玉県鴻巣市小谷2275）\n　　　北東駅より徒歩20分 敷地内駐車20台以\nお申込み/お問合わせ：\nTEL：080（9124）1499（19:00～22:00小林）\nMAIL：shionkounosu@gmail.com\n\n\n今年も埼玉県鴻巣市「カフェ紫苑」さんにて津軽三味線演奏会を開催！もう８回目と長いお付き合いで嬉しい限り。\n今回はゲストに同世代の尺八奏者「小濱明人」さんをお迎えします。二十代から共に音色を共有し合った同志。\nお互い五十代になった今、お互いどのような響きを表現できるか今からとても楽しみです。\n至高のコラボを目指して頑張りますのでぜひ皆様会場へ足をお運びください！どうぞよろしくお願いいたします。\n（山中信人）
URL:https://akihitoobama.com/event/nobutoyamanaka_shion_8/
LOCATION:カフェ紫苑\, 小谷2275\, 鴻巣市\, 埼玉県\, 369-0133\, Japan
ORGANIZER;CN="%E3%82%AB%E3%83%95%E3%82%A7%E7%B4%AB%E8%8B%91":MAILTO:shionkounosu@gmail.com
END:VEVENT
BEGIN:VEVENT
DTSTART;TZID=Asia/Tokyo:20260221T150000
DTEND;TZID=Asia/Tokyo:20260221T170000
DTSTAMP:20260426T044306
CREATED:20251230T144915Z
LAST-MODIFIED:20260105T153534Z
UID:2888-1771686000-1771693200@akihitoobama.com
SUMMARY:小濱明人 × Emme × 石川高「たけとこえ」Live
DESCRIPTION:「竹と声」「息と唄」が古代～現在を結ぶ。 \n  重なり合う音色は空に海に溶け、新たな景色を描き出す。 \n\n タイトル：「たけとこえ」Live \n 日　　時： 2026年2月21日（土）開演15:00 \n 会  　場： in F（東京都練馬区東大泉3-4-19 津田ビル３階） \n 地　  図： https://in-f.live/site/access/ \n 問 合 先： 電話 03-3925-6967／メール in-f.sato@nifty.ne.jp \n 料　  金： 3\,000円（ミュージックチャージ）＋2オーダー \n 出　  演： 小濱明人（尺八・正倉院尺八）／Emme（唄）／石川高（笙・朗詠） \n 曲　  目： 月（増本伎共子）／開く空、昇る海（大森俊之）／水雲に浮かぶ（小濱明人作曲） 　　　　\n           嘉辰（朗詠）／蘇莫者 序／息観（古典本曲）／他
URL:https://akihitoobama.com/event/taketokoe2026/
LOCATION:in F\, 東大泉3-4-19 津田ビル３階\, 練馬区\, 東京都\, 178-0063\, Japan
END:VEVENT
END:VCALENDAR