BEGIN:VCALENDAR
VERSION:2.0
PRODID:-//尺八 小濱明人 Official Website - ECPv6.15.11//NONSGML v1.0//EN
CALSCALE:GREGORIAN
METHOD:PUBLISH
X-ORIGINAL-URL:https://akihitoobama.com
X-WR-CALDESC:尺八 小濱明人 Official Website のイベント
REFRESH-INTERVAL;VALUE=DURATION:PT1H
X-Robots-Tag:noindex
X-PUBLISHED-TTL:PT1H
BEGIN:VTIMEZONE
TZID:Asia/Tokyo
BEGIN:STANDARD
TZOFFSETFROM:+0900
TZOFFSETTO:+0900
TZNAME:JST
DTSTART:20240101T000000
END:STANDARD
END:VTIMEZONE
BEGIN:VEVENT
DTSTART;TZID=Asia/Tokyo:20251205T190000
DTEND;TZID=Asia/Tokyo:20251205T210000
DTSTAMP:20260426T072820
CREATED:20250711T131245Z
LAST-MODIFIED:20250711T133517Z
UID:2577-1764961200-1764968400@akihitoobama.com
SUMMARY:JFC「日本の作曲家2025」~The Shakuhachi 5 を迎えて~
DESCRIPTION:　一般社団法人 日本作曲家協議会 主催公演\n「日本の作曲家2025」～The Shakuhachi 5 を迎えて～\n\n　日時：2025年12月5日（金）19:00 開演（18:30 開場） \n　場所：東京オペラシティ リサイタルホール　\n\n\n【プログラム】＊曲順未定\n　　安藤直弥「尺八五重奏 吟風弄月」\n　　喜納政一郎「スフィンクスの吐息－3本の尺八のための－」\n　　小西奈雅子「二管の尺八のための〈冬のスケッチ〉」\n　　中川俊郎「参管協奏 3人の尺八奏者のための」\n　　古澤勇輔「不可視の次元との接触」\n　　松岡みち子「竹林詩想」\n　　山邊光二「Canon / Exodus」\n　　山本準「巳～5人の尺八奏者のための」\n\n【出演】\n　　The Shakuhachi 5（小濱明人・川村葵山・黒田鈴尊・小湊昭尚・田嶋謙一）\n    照明：PUNCH LINE 川俣亜弥／プロデューサー：川島素晴\n\n　入場料（全席自由・税込）：一般 4\,000円／学生 2\,000円／シニア（65歳以上）2\,000円\n　お問い合わせ：一般社団法人日本作曲家協議会（03-6276-1177 ＊土日月祝休／concert@jfc.gr.jp）\n\n　主催：一般社団法人日本作曲家協議会（JFC）\n　助成：芸術文化振興基金助成事業\n　後援：一般社団法人日本音楽作家団体協議会（FCA）　\n\n　※8月1日チケット発売開始!!
URL:https://akihitoobama.com/event/jfc2025/
LOCATION:東京オペラシティ リサイタルホール\, 西新宿3-20-2\, 新宿区\, 東京都\, 163-1403\, Japan
ORGANIZER;CN="%E4%B8%80%E8%88%AC%E7%A4%BE%E5%9B%A3%E6%B3%95%E4%BA%BA%E6%97%A5%E6%9C%AC%E4%BD%9C%E6%9B%B2%E5%AE%B6%E5%8D%94%E8%AD%B0%E4%BC%9A":MAILTO:concert@jfc.gr.jp
END:VEVENT
BEGIN:VEVENT
DTSTART;TZID=Asia/Tokyo:20251213T160000
DTEND;TZID=Asia/Tokyo:20251213T173000
DTSTAMP:20260426T072820
CREATED:20251103T154734Z
LAST-MODIFIED:20251103T154850Z
UID:2730-1765641600-1765647000@akihitoobama.com
SUMMARY:《淡座》第八回 本公演 ～バッハの場（にわ）～
DESCRIPTION:2025年12月13日（土）16:00～\n《淡座》第八回本公演 ～バッハの場（にわ）～ \n\n場所：安養院 瑠璃光堂（東京都板橋区東新町2-30-23） 　\n　　　*お靴を脱いでお入りいただきます。 　\n　　　*駐車場（無料）をご利用いただけます。\n　　　　ご利用をご希望の際はご一報ください。 \n\n出演：淡座＝三瀬俊吾（ヴァイオリン）・竹本聖子（チェロ）・\n　　　　　　本條秀慈郎（唄・三味線）・桑原ゆう（作曲・編曲）\n　　　ゲスト＝小濱明人（尺八） \n\n曲目：J.S.バッハ（桑原ゆう編曲）：ゴルトベルク変奏曲 \n\n問合先：淡座（info@awaiza.com／080-4091-6491）\n\nコメント：鍵盤音楽の金字塔《ゴルトベルク変奏曲》。2022年に 初演した淡座版は、\n　　　　　大好評をもってむかえられました。このたび、淡座結成15周年を記念し、\n　　　　　満を持して再演 いたします。 和と洋の響きの交差から新たな景色が立ちあがる、\n　　　　　ゴルトベルクの旅、ふたたび。 \n\nお申し込みフォーム
URL:https://akihitoobama.com/event/awaizavol-8/
LOCATION:安養院 瑠璃光堂\, 東新町2-30-23\, 板橋区\, 東京都\, 174-0074\, Japan
ORGANIZER;CN="%E6%B7%A1%E5%BA%A7":MAILTO:info@awaiza.com
END:VEVENT
BEGIN:VEVENT
DTSTART;TZID=Asia/Tokyo:20251219T170000
DTEND;TZID=Asia/Tokyo:20251219T193000
DTSTAMP:20260426T072820
CREATED:20251215T091241Z
LAST-MODIFIED:20251215T100311Z
UID:2788-1766163600-1766172600@akihitoobama.com
SUMMARY:晋韻華章～山西文化年閉幕公演～　
DESCRIPTION:晋韻華章～山西文化年閉幕公演～　\n山西省＆埼玉県友好都市締結４３周年記念音楽会\n\n開催日：2025年12月19日（金）17:00～19:30（開場16:00） \n会　場：埼玉会館 大ホール（埼玉県さいたま市浦和区高砂３丁目１−４）\n料　金：無料\n\nコメント：　中国文化センターでは2025年を「山西文化年」と位置づけ、山西省文化と旅游庁、\n　　　　　ならびに山西省内のさまざまな文化団体と連携し、年間を通じて多彩な\n　　　　　文化・観光プロモーション活動を展開してまいりました。今年2月の\n　　　　 「歓慶蛇年新春：晋韻華章 – 山西文化年開幕演出」にて華々しく幕を開け、以降、　\n　　　　  山西省視察団や観光紹介などを通じて、山西の豊かな歴史・文化遺産と自然の魅力を\n         日本の皆様にお届けしてまいりました。\n         　このたび、1年間にわたる「山西文化年」の締めくくりとして、12月19日、\n　　　　　在日華僑華人や日本人のアーティストらによる「2025晋韻華章-山西文化年閉幕公演」を\n　　　　　開催いたします。本公演では、山西省の伝統音楽をはじめ古箏や楊琴といった\n　　　　　中国民族楽器の生演奏とともに、情感豊かなパフォーマンスをお届けします。\n　　　　　音楽を通じて、日中文化交流の新たな一歩となることを願っております。\n　　　　 「山西文化年」の最後を飾る記念すべき一夜に、ぜひ多くの皆様にご来場いただき、\n         両国の文化の絆をともに感じていただければ幸いです。（中国文化センターHPより）\n 
URL:https://akihitoobama.com/event/shininksho2025/
LOCATION:埼玉会館 大ホール\, 浦和区高砂3-1-4\, さいたま市\, 埼玉県\, 330-8518\, Japan
END:VEVENT
BEGIN:VEVENT
DTSTART;TZID=Asia/Tokyo:20251226T191500
DTEND;TZID=Asia/Tokyo:20251226T214500
DTSTAMP:20260426T072820
CREATED:20251103T160637Z
LAST-MODIFIED:20251220T123936Z
UID:2737-1766776500-1766785500@akihitoobama.com
SUMMARY:黒田・吉見・小濱 Trio Live @ 代々木NARU
DESCRIPTION:タイトル：黒田・吉見・小濱 Trio Live\n開 催 日：2025年12月26日（金） 1st  19:15～20:15／2nd 20:45～21:45 \n会　　場：代々木NARU（東京都渋谷区代々木1-36-12-B1F）\n料　　金： M.charge（税込）3\,500円 \n問 合 先： 代々木NARU（03-3370-8154） \n出 演 者： 黒田京子（ピアノ）／吉見征樹（タブラ）／小濱明人（尺八）\n\nコメント： 東京のジャズクラブの老舗、代々木ナルにて、尺八奏者・小濱明人さんと、\n　　　　　久しぶりの共演になるタブラ奏者・吉見征樹さんと、3人でライヴを行います。\n　　　　　 代々木ナルのママ、美紗子さんから、年末の恒例ライヴにしたいとのお申し出を受け、\n　　　　　昨年末に続き、実現しました。2回目のライヴになります。\n          この3人ならではの音楽です。年末、仕事納めの金曜日かとは思いますが、\n　　　　　ぜひ足をお運びください！みなさまのご予約をお待ちしています。\n         （黒田京子さんのHPより）
URL:https://akihitoobama.com/event/kyo_trio_yoyoginaru/
LOCATION:代々木NARU\, 代々木1-36-12 B1F\, 渋谷区\, 東京都\, Japan
END:VEVENT
END:VCALENDAR