BEGIN:VCALENDAR
VERSION:2.0
PRODID:-//尺八 小濱明人 Official Website - ECPv6.15.11//NONSGML v1.0//EN
CALSCALE:GREGORIAN
METHOD:PUBLISH
X-WR-CALNAME:尺八 小濱明人 Official Website
X-ORIGINAL-URL:https://akihitoobama.com
X-WR-CALDESC:尺八 小濱明人 Official Website のイベント
REFRESH-INTERVAL;VALUE=DURATION:PT1H
X-Robots-Tag:noindex
X-PUBLISHED-TTL:PT1H
BEGIN:VTIMEZONE
TZID:Asia/Tokyo
BEGIN:STANDARD
TZOFFSETFROM:+0900
TZOFFSETTO:+0900
TZNAME:JST
DTSTART:20220101T000000
END:STANDARD
END:VTIMEZONE
BEGIN:VTIMEZONE
TZID:UTC
BEGIN:STANDARD
TZOFFSETFROM:+0000
TZOFFSETTO:+0000
TZNAME:UTC
DTSTART:20220101T000000
END:STANDARD
END:VTIMEZONE
BEGIN:VEVENT
DTSTART;TZID=Asia/Tokyo:20230708T130000
DTEND;TZID=Asia/Tokyo:20230708T140000
DTSTAMP:20260426T130044
CREATED:20230407T145459Z
LAST-MODIFIED:20230620T120602Z
UID:919-1688821200-1688824800@akihitoobama.com
SUMMARY:ボンクリ "Born Creative" Festival 2023 ／ Special Concert [sideA]
DESCRIPTION:子どもから大人まで！世界中の「新しい音」に出会える！「音楽に国境はない」という言葉をそのままに、世界から熱い視線を向けられる作曲家 藤倉大さんをディレクターに迎えてお届けする、贅沢なフェスティバルです。私は7/8「スペシャルコンサート」で「藤倉大／尺八協奏曲（アンサンブル版）」を世界初演致します。 https://www.borncreativefestival.com/ \n  \nタイトル　ボンクリ "Born Creative" Festival 2023 \n　　　　　Special Concert [sideA]\n開催日　　2023年7月8日（土）開演13:00 開場 12:30\n場　所　　東京都豊島区 東京芸術劇場コンサートホール　\n　　　　　https://www.geigeki.jp/\n料　金　　一般 1\,500円／U30（30歳以下）1\,000円\n　　　　　A面&B面セット券＝ 一般 2\,500円／U30（30歳以下）1\,500円\n出演者　　藤倉大（作曲家・アーティスティック・ディレクター）／\n　　　　　アンサンブルノマド（現代音楽アンサンブル）／ \n　　　　　佐藤紀雄（指揮・ギター）／小濱明人（尺八）／他\n  \n【曲　目】\n　❶ハリス・キトス／ファイブ・ウェイズ・トゥ・ムーブ（世界初演）\n　　演奏：アンサンブル・ノマド\n　　映像：ハリス・キトス\n\n　❷ドゥ・ユン／スロー・ポートレーツ（日本初演）　　\n　　演奏：アンサンブル・ノマド 　　\n　　映像：デイヴィット・ミヒャレック \n\n　❸藤倉大／尺八協奏曲（アンサンブル版世界初演）\n　　演奏：小濱明人（尺八）、アンサンブル・ノマド、佐藤紀雄（指揮） \n　　写真：二コラ・フロック \n　　アート・ディレクション：フローレンス・ドゥルーエ
URL:https://akihitoobama.com/event/borncreativefestival2023/
LOCATION:東京芸術劇場\, 西池袋1-8-1\, 豊島区\, 東京都\, 171-0021\, 日本
END:VEVENT
BEGIN:VEVENT
DTSTART;TZID=Asia/Tokyo:20230702T150000
DTEND;TZID=Asia/Tokyo:20230702T170000
DTSTAMP:20260426T130044
CREATED:20230227T173323Z
LAST-MODIFIED:20230312T012145Z
UID:540-1688310000-1688317200@akihitoobama.com
SUMMARY:はせみきた 和太鼓コンサート2023
DESCRIPTION:出演：はせ みきた\nゲスト　小濱 明人（尺八）・ 小山 豊（津軽三味線）\n\n［日時］2023年7月2日（日）14:15開場 / 15:00開演\n［会場］豊洲シビックセンターホール 5F ≫会場アクセス\n［料金］全席指定 / 一般 5\,000円 高校生以下 2\,500円 （税込）\n※当日料金 各500円増・5歳以下の入場不可・江東区ティアラ友の会割引あり\n\n一般前売開始：2023年4月9日（日）\n［チケット取扱い］カンフェティ (WEB･TEL)・イープラス・江東区豊洲文化センター窓口 ほか
URL:https://akihitoobama.com/event/hasemikita/
LOCATION:豊洲シビックセンターホール\, 豊洲2丁目2-18-5F\, 江東区\, 東京都\, 135-0061\, 日本
END:VEVENT
BEGIN:VEVENT
DTSTART;TZID=Asia/Tokyo:20230610T140000
DTEND;TZID=Asia/Tokyo:20230610T193000
DTSTAMP:20260426T130044
CREATED:20230310T132122Z
LAST-MODIFIED:20230414T152319Z
UID:604-1686405600-1686425400@akihitoobama.com
SUMMARY:国立劇場主催「現代邦楽名曲選 -創作の軌跡-」
DESCRIPTION:開 催 日　2023年6月10日（土）午後2時開演／午後5時開演\n\nタイトル 「現代邦楽名曲選 -創作の軌跡-」\n　　　　　～未来へつなぐ国立劇場プロジェクト～\n　　　　　～初代国立劇場さよなら公演～\n\n曲　　目 【午後２時開演】\n　　　　　　宮城道雄作曲「越天楽変奏曲」（1928）\n　　　　　　杵屋正邦作曲「明鏡」（1975）\n　　　　　　入野義朗作曲「二つのファンタジー」（1969）\n　　　　　　諸井誠作曲「有為転変」（1973）\n　　　　　　高橋悠治作曲「三絃散手」（1992）\n　　　　　　三木露風作詞・中能島欣一作曲「斑鳩宮」（1955）\n\n　　　　 【午後５時開演】《国立劇場委嘱作品より》\n　　　　　　武満徹作曲「雅楽　秋庭歌」（1973）\n　　　　　　佐藤聰明作曲「海峡」（1996）\n　　　　　　一柳慧作曲「水の相対」（1989）\n　　　　　　廣瀬量平作曲「南溟暁歌」（1998）※小濱出演曲　\n　　　　　　間宮芳生作曲「奥浄瑠璃　琵琶に磨臼」（1997）\n　　　　　　大岡信撰歌・湯浅譲二作曲「風姿行雲」（1988）\n\n前売開始日　電話・インターネット予約開始：4月18日（火）午前10時\n　　　　　　窓口販売開始：4月19日（水）\n　　　　　　※窓口販売用に別枠でのお取り置きはございません。\n\n料　　金 　全席指定（すべて税込）\n　　　　　　一般：6\,000円【２時・５時セット料金　11\,000円】（同時購入の場合のみ）\n　　　　　　学生：4\,200円\n\n問 合 先　　国立劇場チケットセンター（午前10時～午後6時）\n　　　　　　0570（07）9900\n　　　　　　03（3230）3000\n\nインターネット購入\nhttps://ticket.ntj.jac.go.jp/ （パソコン・スマートフォン共通）
URL:https://akihitoobama.com/event/national-theatre/
LOCATION:国立劇場\, 隼町4-1\, 千代田区\, 東京都\, 102-8656\, 日本
END:VEVENT
BEGIN:VEVENT
DTSTART;TZID=Asia/Tokyo:20230601T200000
DTEND;TZID=Asia/Tokyo:20230605T170000
DTSTAMP:20260426T130044
CREATED:20230209T142537Z
LAST-MODIFIED:20230430T171336Z
UID:158-1685649600-1685984400@akihitoobama.com
SUMMARY:International Shakuhachi Festival Prague 2023
DESCRIPTION:
URL:https://akihitoobama.com/event/international-shakuhachi-festival-prague-2023/
END:VEVENT
BEGIN:VEVENT
DTSTART;TZID=UTC:20230518T190000
DTEND;TZID=UTC:20230518T203000
DTSTAMP:20260426T130044
CREATED:20230321T142938Z
LAST-MODIFIED:20230418T144642Z
UID:674-1684436400-1684441800@akihitoobama.com
SUMMARY:HARU URARA GRAND FESTA
DESCRIPTION:HARU URARA GRAND FESTA presents\nLive Ikebana & Music Performance\n5 Senses & Friends "ZEPHYROS"\n\n[Bucharest/Romania]\nRomanian-American University\nhttps://www.rau.ro/?lang=en\n\n[Artist]\nNicoleta Oprisan (Ikebana)\nNaoki TATE (Sound Producer)\nAkihito OBAMA (Shakuhahchi)\nYutaka OYAMA (Tsugaru Shamisen)\n  \n 
URL:https://akihitoobama.com/event/haru-urara-grand-festa/
LOCATION:Romanian-American University\, 1B Expozitiei Blvd.\, 1st district\, Bucharest\, 012101\, ルーマニア
END:VEVENT
BEGIN:VEVENT
DTSTART;TZID=Asia/Tokyo:20230422T140000
DTEND;TZID=Asia/Tokyo:20230422T160000
DTSTAMP:20260426T130044
CREATED:20230209T134814Z
LAST-MODIFIED:20230408T042633Z
UID:153-1682172000-1682179200@akihitoobama.com
SUMMARY:本條秀太郎の会「鄙哥－伝えゆく詩達－」
DESCRIPTION:  \nタイトル　本條秀太郎の会 鄙哥ー伝えゆく詩達ー VOL.12\n開催日　　2023年4月22日（土） 開演14:00\n場　所　　東京都千代田区 紀尾井小ホール\n料　金　　全席指定 4\,500円（税込）\n問合先　　株式会社傳燈樂舎（tel:03-3303-5180／e-mail:dentogakusha@honjoh.co.jp）\n出演者　　本條秀太郎（唄・三味線）、\n　　　　　本條秀浩、本條秀慈郎、本條秀英二（三味線）、\n　　　　　鼓友緑佳（鳴物）、小濱明人（尺八）\nWebsite　http://www.honjoh.co.jp/\n 
URL:https://akihitoobama.com/event/hoonjo/
LOCATION:紀尾井小ホール\, 紀尾井町6番5号\, 千代田区\, 東京都\, 102-0094　\, 日本
END:VEVENT
BEGIN:VEVENT
DTSTART;TZID=Asia/Tokyo:20230311T140000
DTEND;TZID=Asia/Tokyo:20230311T180000
DTSTAMP:20260426T130044
CREATED:20230309T133923Z
LAST-MODIFIED:20230309T140902Z
UID:556-1678543200-1678557600@akihitoobama.com
SUMMARY:和楽器×書パフォーマンス
DESCRIPTION:  \nタイトル　令和4年度さくら市文化振興事業\n　　　　　和楽器×書パフォーマンス\n開催日　　令和5年3月11日（土曜日）\n　　　　　午後2時開演（午後1時開場）午後4時終演予定\n場　所　　氏家公民館ホール（栃木県さくら市櫻野1322-8）\n料　金　　一般500円、高校生以下無料\n　　　　　定員400名程度（全席自由席、事前申込制）＊完売\n出演者　　山中信人和楽器ユニット・武蔵（山中信人、塚本隼也、鷹-TAKA-）\n         ゲスト：小濱明人（尺八演奏家）\nWebsite\nhttps://www.city.tochigi-sakura.lg.jp/event/000063/p003069.html
URL:https://akihitoobama.com/event/sakura-syo/
LOCATION:氏家公民館ホール\, さくら市櫻野1322-8\, 栃木県\, 日本
END:VEVENT
BEGIN:VEVENT
DTSTART;TZID=Asia/Tokyo:20230307T190000
DTEND;TZID=Asia/Tokyo:20230307T210000
DTSTAMP:20260426T130044
CREATED:20230209T133611Z
LAST-MODIFIED:20230309T141124Z
UID:150-1678215600-1678222800@akihitoobama.com
SUMMARY:The Shakuhachi 5『The 3rd Concert』
DESCRIPTION:  \n[ごあいさつ]\n　1st、2ndに続きこの度のThe 3rd Concertでは、毎コンサートにて必ず演奏いたします新作曲を、\n望月京氏に委嘱することが叶いました。そして前回に引き続き今回も新作曲を幅広く公募し、\n演奏させていただくこととなりました。その他に、引き続き過去に名奏者達が演奏した名曲及び\n武満徹作品の「うた」をお贈りいたします。1st、2nd Concertを経ての成果を礎に、\n我々のさらなる発展、願いを込めた「The Shakuhachi 5 "The 3rd Concert"」を\nお送りできればと思っております。皆様におかれましては、\nお忙しいこととは存じますが、ぜひお越しいただけますと大変嬉しく存じます。\n\n[プログラム]\n　・望月京 作曲 『観音アナトミー』※委嘱初演\n　・金田望 作曲 『５つの尺八のための《コレオグラフィ》』※公募初演\n　・新実徳英 作曲 『風韻Ⅱ』\n　・冷水乃栄流 作曲 『飛翔・追想』\n　・武満徹 作曲 『‟うた”より』\n　・廣瀬量平 作曲 『二つの尺八のための「アキ」』\n\n[場　所]\n　東京都墨田区 すみだトリフォニーホール 小ホール\n\n[出　演]\n　The Shakuhachi 5（小濱明人・川村葵山・黒田鈴尊・小湊昭尚・田嶋謙一）\n\n[料　金]\n　前売4\,000円／当日4\,500円／学生⇒無料\n\n[問合先/お申込み]\n　theshakuhachi5@gmail.com\n　氏名・人数・お電話番号を明記の上 お申し込みください。\n\n[Website]\n　https://akihitoobama.wixsite.com/theshakuhachi5\n 
URL:https://akihitoobama.com/event/theshakuhachi5/
LOCATION:すみだトリフォニーホール 小ホール\, 錦糸1-2-3\, 墨田区\, 東京都\, 130-0013\, 日本
END:VEVENT
BEGIN:VEVENT
DTSTART;TZID=Asia/Tokyo:20230226T183000
DTEND;TZID=Asia/Tokyo:20230226T203000
DTSTAMP:20260426T130044
CREATED:20230206T093010Z
LAST-MODIFIED:20230312T012241Z
UID:69-1677436200-1677443400@akihitoobama.com
SUMMARY:はせみきた「音魂夜会'23 冬ノ陣」
DESCRIPTION:  \nタイトル　音魂夜会`23冬ノ陣「打 吹 弾 独奏合戦」\n発売日　　2022年2月26日（日） 開演 18:00 開演18:30\n場　所　　吉祥寺スターパインズカフェ　https://mandala.gr.jp/SPC/\n料　金　　前売4\,000円／当日4\,500円（全席自由・別途1drink代）\n出演者　　はせみきた（太鼓）／小濱明人（尺八）／小山豊（津軽三味線）\n\n[コメント]\n　独奏だからこそ味わえる音色や情感、そして奏者の世界観をたっぷりと堪能してほしいとの思いから企画しました。\n長年にわたり尺八本曲の掘り下げ・研究に取り組みつつ、「LOTUS POSITION」や「The Shakuhachi 5」での現代的な\nユニット活動も展開している【小濱明人】の時空を旅する音楽。幅広い音楽／エンターテイメントシーンからのオファーを\n受け津軽三味線の存在を世界に向けてアピールしてきた【小山豊】の数えきれない録音現場で培った経験からうまれる\n「音づくり」へのこだわり。三者それぞれの純度の高い音楽と、それらの融合を一夜にして楽しめるという大変お得なライブです（笑）。\n令和の「和楽器音楽新時代」が、ここから始まる… かも。。。（はせみきた）
URL:https://akihitoobama.com/event/hase/
LOCATION:スターパインズカフェ\, 吉祥寺本町1-20-16 B1\, 武蔵野市\, 東京\, 180-0004\, 日本
END:VEVENT
END:VCALENDAR