BEGIN:VCALENDAR
VERSION:2.0
PRODID:-//尺八 小濱明人 Official Website - ECPv6.15.11//NONSGML v1.0//EN
CALSCALE:GREGORIAN
METHOD:PUBLISH
X-WR-CALNAME:尺八 小濱明人 Official Website
X-ORIGINAL-URL:https://akihitoobama.com
X-WR-CALDESC:尺八 小濱明人 Official Website のイベント
REFRESH-INTERVAL;VALUE=DURATION:PT1H
X-Robots-Tag:noindex
X-PUBLISHED-TTL:PT1H
BEGIN:VTIMEZONE
TZID:Asia/Tokyo
BEGIN:STANDARD
TZOFFSETFROM:+0900
TZOFFSETTO:+0900
TZNAME:JST
DTSTART:20250101T000000
END:STANDARD
END:VTIMEZONE
BEGIN:VEVENT
DTSTART;TZID=Asia/Tokyo:20261128T140000
DTEND;TZID=Asia/Tokyo:20261128T151000
DTSTAMP:20260426T102519
CREATED:20260217T133152Z
LAST-MODIFIED:20260424T164617Z
UID:3003-1795874400-1795878600@akihitoobama.com
SUMMARY:第8回 小濱明人 尺八リサイタル「白隠～仏性の在所～」
DESCRIPTION:　 \n　白隠禅師（1685–1768）は、現在の臨済宗の教義や修行方法に大きな影響を与え、\nその偉大さから〈臨済宗中興の祖〉と称されています。\n　また、禅師は多くの禅画を描き、その数は何と一万点にのぼるとも言われています。\n禅画は、禅の教えをより親しみやすく伝えるために、絵や文字によって表されたものであり、\n人々の心に深く届く表現として用いられました。\n　さらに、白隠禅師が強調した「衆生本来仏なり」（人は修行によって仏になるのではなく、\n生まれながらにして仏の本性＝仏性を備えている）という言葉は、多くの人々の心に響き、\n救いの言葉となったことでしょう。\n　一方、禅・普化宗を掲げた虚無僧は、尺八を吹いて修行を行っていました。虚無僧が\n残した本曲と呼ばれる独奏曲には、彼らの唱えた〈吹禅〉の精神が表現されています。\n　本公演では、本曲と白隠禅師の禅画を同時に味わっていただき、両者に共通して流れる\n禅の心を感じていただければ幸いです。\n　また終曲には、世界的に活躍する作曲家・指揮者である杉山洋一氏に委嘱した、\n白隠禅師をテーマとする新作を演奏いたします。\nタイトル　第8回 小濱明人 尺八リサイタル\n　　　　　「白隠～仏性の在所～」\n\n開催日　　2026年11月28日（土）開場13:30 開演14:00\n会　場　　東京都 杉並区 sonorium　\n　 　　　　（東京都杉並区和泉3-53-16）永福町徒歩7分\n料　金　　前売4\,500円／当日5\,000円\n問合先　　小濱明人リサイタル事務局＝オバマ（akihitoobama+info@gmail.com）\n出演者　　小濱明人（尺八）／委嘱作曲家＝杉山洋一\n\n曲　目　　第一部：浮雲（横山勝也伝)\n　　　　　　　　　鶴の巣籠（横山勝也伝)\n　　　　　　　　　虚鈴（明暗真法流）\n　　　　　　　　　心月（横山勝也伝)\n　　　　　第二部：虚空（明暗真法流）\n　　　　　　　　　息観（横山勝也伝)\n                委嘱新作「題未定」（杉山洋一作曲）\n主　催　　小濱明人\n後　援　　邦楽ジャーナル／虚無僧研究会／（公財）日本伝統文化振興財団
URL:https://akihitoobama.com/event/recital_2026/
LOCATION:sonorium\, 和泉3-53-16\, 杉並区\, 東京都\, 168-0063\, 日本
ORGANIZER;CN="%E5%B0%8F%E6%BF%B1%E6%98%8E%E4%BA%BA":MAILTO:akihitoobama+info@gmail.com
END:VEVENT
END:VCALENDAR